BEGIN:VCALENDAR
VERSION:2.0
PRODID:-//École Cobble Hill Elementary - ECPv6.15.12.2//NONSGML v1.0//EN
CALSCALE:GREGORIAN
METHOD:PUBLISH
X-WR-CALNAME:École Cobble Hill Elementary
X-ORIGINAL-URL:https://ecolecobblehill.sd79.bc.ca
X-WR-CALDESC:Events for École Cobble Hill Elementary
REFRESH-INTERVAL;VALUE=DURATION:PT1H
X-Robots-Tag:noindex
X-PUBLISHED-TTL:PT1H
BEGIN:VTIMEZONE
TZID:America/Los_Angeles
BEGIN:DAYLIGHT
TZOFFSETFROM:-0800
TZOFFSETTO:-0700
TZNAME:PDT
DTSTART:20240310T100000
END:DAYLIGHT
BEGIN:STANDARD
TZOFFSETFROM:-0700
TZOFFSETTO:-0800
TZNAME:PST
DTSTART:20241103T090000
END:STANDARD
BEGIN:DAYLIGHT
TZOFFSETFROM:-0800
TZOFFSETTO:-0700
TZNAME:PDT
DTSTART:20250309T100000
END:DAYLIGHT
BEGIN:STANDARD
TZOFFSETFROM:-0700
TZOFFSETTO:-0800
TZNAME:PST
DTSTART:20251102T090000
END:STANDARD
BEGIN:DAYLIGHT
TZOFFSETFROM:-0800
TZOFFSETTO:-0700
TZNAME:PDT
DTSTART:20260308T100000
END:DAYLIGHT
BEGIN:STANDARD
TZOFFSETFROM:-0700
TZOFFSETTO:-0800
TZNAME:PST
DTSTART:20261101T090000
END:STANDARD
BEGIN:DAYLIGHT
TZOFFSETFROM:-0800
TZOFFSETTO:-0700
TZNAME:PDT
DTSTART:20270314T100000
END:DAYLIGHT
BEGIN:STANDARD
TZOFFSETFROM:-0700
TZOFFSETTO:-0800
TZNAME:PST
DTSTART:20271107T090000
END:STANDARD
END:VTIMEZONE
BEGIN:VEVENT
DTSTART;TZID=America/Los_Angeles:20260518T000000
DTEND;TZID=America/Los_Angeles:20260518T235959
DTSTAMP:20260420T210656
CREATED:20250912T195312Z
LAST-MODIFIED:20260415T003817Z
UID:10000092-1779062400-1779148799@ecolecobblehill.sd79.bc.ca
SUMMARY:Victoria Day (No Classes in Session)
DESCRIPTION:
URL:https://ecolecobblehill.sd79.bc.ca/event/victoria-day-no-classes-in-session-2/
END:VEVENT
BEGIN:VEVENT
DTSTART;TZID=America/Los_Angeles:20260513T000000
DTEND;TZID=America/Los_Angeles:20260513T235959
DTSTAMP:20260420T210656
CREATED:20250912T195311Z
LAST-MODIFIED:20260415T003817Z
UID:10000091-1778630400-1778716799@ecolecobblehill.sd79.bc.ca
SUMMARY:2 Hour Early Dismissal
DESCRIPTION:
URL:https://ecolecobblehill.sd79.bc.ca/event/2-hour-early-dismissal-12/
END:VEVENT
BEGIN:VEVENT
DTSTART;TZID=America/Los_Angeles:20260501T000000
DTEND;TZID=America/Los_Angeles:20260501T235959
DTSTAMP:20260420T210656
CREATED:20250912T195311Z
LAST-MODIFIED:20260415T003816Z
UID:10000090-1777593600-1777679999@ecolecobblehill.sd79.bc.ca
SUMMARY:Professional Development Day (No Classes in Session)
DESCRIPTION:
URL:https://ecolecobblehill.sd79.bc.ca/event/professional-development-day-no-classes-in-session-8/
END:VEVENT
BEGIN:VEVENT
DTSTART;TZID=America/Los_Angeles:20260422T000000
DTEND;TZID=America/Los_Angeles:20260422T235959
DTSTAMP:20260420T210656
CREATED:20260205T193800Z
LAST-MODIFIED:20260415T003816Z
UID:10000097-1776816000-1776902399@ecolecobblehill.sd79.bc.ca
SUMMARY:2 Hour Early Dismissal
DESCRIPTION:
URL:https://ecolecobblehill.sd79.bc.ca/event/2-hour-early-dismissal-13-2/
END:VEVENT
BEGIN:VEVENT
DTSTART;TZID=America/Los_Angeles:20260422T000000
DTEND;TZID=America/Los_Angeles:20260422T235959
DTSTAMP:20260420T210656
CREATED:20260205T193800Z
LAST-MODIFIED:20260205T193800Z
UID:10000096-1776816000-1776902399@ecolecobblehill.sd79.bc.ca
SUMMARY:2 Hour Early Dismissal
DESCRIPTION:
URL:https://ecolecobblehill.sd79.bc.ca/event/2-hour-early-dismissal-13/
END:VEVENT
BEGIN:VEVENT
DTSTART;TZID=America/Los_Angeles:20260413T000000
DTEND;TZID=America/Los_Angeles:20260413T235959
DTSTAMP:20260420T210656
CREATED:20250912T195310Z
LAST-MODIFIED:20260413T041031Z
UID:10000089-1776038400-1776124799@ecolecobblehill.sd79.bc.ca
SUMMARY:Non-Instructional Day (No Classes in Session)
DESCRIPTION:
URL:https://ecolecobblehill.sd79.bc.ca/event/non-instructional-day-no-classes-in-session-7/
END:VEVENT
BEGIN:VEVENT
DTSTART;TZID=America/Los_Angeles:20260406T000000
DTEND;TZID=America/Los_Angeles:20260406T235959
DTSTAMP:20260420T210656
CREATED:20250912T195309Z
LAST-MODIFIED:20260406T041012Z
UID:10000088-1775433600-1775519999@ecolecobblehill.sd79.bc.ca
SUMMARY:Easter Monday (No Classes in Session)
DESCRIPTION:
URL:https://ecolecobblehill.sd79.bc.ca/event/easter-monday-no-classes-in-session-2/
END:VEVENT
BEGIN:VEVENT
DTSTART;TZID=America/Los_Angeles:20260403T000000
DTEND;TZID=America/Los_Angeles:20260403T235959
DTSTAMP:20260420T210656
CREATED:20250912T195309Z
LAST-MODIFIED:20260403T043908Z
UID:10000087-1775174400-1775260799@ecolecobblehill.sd79.bc.ca
SUMMARY:Good Friday (No Classes in Session)
DESCRIPTION:
URL:https://ecolecobblehill.sd79.bc.ca/event/good-friday-no-classes-in-session-2/
END:VEVENT
BEGIN:VEVENT
DTSTART;TZID=America/Los_Angeles:20260402T000000
DTEND;TZID=America/Los_Angeles:20260402T235959
DTSTAMP:20260420T210656
CREATED:20250912T195308Z
LAST-MODIFIED:20260402T051054Z
UID:10000086-1775088000-1775174399@ecolecobblehill.sd79.bc.ca
SUMMARY:1 Hour Early Dismissal
DESCRIPTION:
URL:https://ecolecobblehill.sd79.bc.ca/event/1-hour-early-dismissal-6/
END:VEVENT
BEGIN:VEVENT
DTSTART;TZID=America/Los_Angeles:20260323T000000
DTEND;TZID=America/Los_Angeles:20260327T235959
DTSTAMP:20260420T210656
CREATED:20250912T195307Z
LAST-MODIFIED:20260327T060944Z
UID:10000085-1774224000-1774655999@ecolecobblehill.sd79.bc.ca
SUMMARY:District Closure (No Classes in Session)
DESCRIPTION:
URL:https://ecolecobblehill.sd79.bc.ca/event/district-closure-no-classes-in-session-2/
END:VEVENT
BEGIN:VEVENT
DTSTART;TZID=America/Los_Angeles:20260316T000000
DTEND;TZID=America/Los_Angeles:20260320T235959
DTSTAMP:20260420T210656
CREATED:20250912T195306Z
LAST-MODIFIED:20260320T205323Z
UID:10000084-1773619200-1774051199@ecolecobblehill.sd79.bc.ca
SUMMARY:Spring Break (No Classes in Session)
DESCRIPTION:
URL:https://ecolecobblehill.sd79.bc.ca/event/spring-break-no-classes-in-session-2/
END:VEVENT
BEGIN:VEVENT
DTSTART;TZID=America/Los_Angeles:20260225T000000
DTEND;TZID=America/Los_Angeles:20260225T235959
DTSTAMP:20260420T210656
CREATED:20250912T195306Z
LAST-MODIFIED:20260225T200920Z
UID:10000083-1771977600-1772063999@ecolecobblehill.sd79.bc.ca
SUMMARY:2 Hour Early Dismissal
DESCRIPTION:
URL:https://ecolecobblehill.sd79.bc.ca/event/2-hour-early-dismissal-11/
END:VEVENT
BEGIN:VEVENT
DTSTART;TZID=America/Los_Angeles:20260216T000000
DTEND;TZID=America/Los_Angeles:20260216T235959
DTSTAMP:20260420T210656
CREATED:20250912T195305Z
LAST-MODIFIED:20260216T193827Z
UID:10000082-1771200000-1771286399@ecolecobblehill.sd79.bc.ca
SUMMARY:Family Day (No Classes in Session)
DESCRIPTION:
URL:https://ecolecobblehill.sd79.bc.ca/event/family-day-no-classes-in-session-2/
END:VEVENT
BEGIN:VEVENT
DTSTART;TZID=America/Los_Angeles:20260213T000000
DTEND;TZID=America/Los_Angeles:20260213T235959
DTSTAMP:20260420T210656
CREATED:20250912T195304Z
LAST-MODIFIED:20260213T193827Z
UID:10000081-1770940800-1771027199@ecolecobblehill.sd79.bc.ca
SUMMARY:Professional Development Day (No Classes in Session)
DESCRIPTION:
URL:https://ecolecobblehill.sd79.bc.ca/event/professional-development-day-no-classes-in-session-7/
END:VEVENT
BEGIN:VEVENT
DTSTART;TZID=America/Los_Angeles:20260105T000000
DTEND;TZID=America/Los_Angeles:20260105T235959
DTSTAMP:20260420T210656
CREATED:20250912T195304Z
LAST-MODIFIED:20260105T185300Z
UID:10000080-1767571200-1767657599@ecolecobblehill.sd79.bc.ca
SUMMARY:Schools Reopen
DESCRIPTION:
URL:https://ecolecobblehill.sd79.bc.ca/event/schools-reopen-2/
END:VEVENT
BEGIN:VEVENT
DTSTART;TZID=America/Los_Angeles:20251229T000000
DTEND;TZID=America/Los_Angeles:20260102T235959
DTSTAMP:20260420T210656
CREATED:20250912T195303Z
LAST-MODIFIED:20260102T185305Z
UID:10000079-1766966400-1767398399@ecolecobblehill.sd79.bc.ca
SUMMARY:Winter Break (No Classes in Session)
DESCRIPTION:
URL:https://ecolecobblehill.sd79.bc.ca/event/winter-break-no-classes-in-session-4/
END:VEVENT
BEGIN:VEVENT
DTSTART;TZID=America/Los_Angeles:20251222T000000
DTEND;TZID=America/Los_Angeles:20251226T235959
DTSTAMP:20260420T210656
CREATED:20250912T195306Z
LAST-MODIFIED:20250912T195306Z
UID:10000068-1766361600-1766793599@ecolecobblehill.sd79.bc.ca
SUMMARY:Winter Break (No Classes in Session)
DESCRIPTION:
URL:https://ecolecobblehill.sd79.bc.ca/event/winter-break-no-classes-in-session-5/
END:VEVENT
BEGIN:VEVENT
DTSTART;TZID=America/Los_Angeles:20251222T000000
DTEND;TZID=America/Los_Angeles:20251226T235959
DTSTAMP:20260420T210656
CREATED:20250912T195302Z
LAST-MODIFIED:20251226T183802Z
UID:10000078-1766361600-1766793599@ecolecobblehill.sd79.bc.ca
SUMMARY:Winter Break (No Classes in Session)
DESCRIPTION:
URL:https://ecolecobblehill.sd79.bc.ca/event/winter-break-no-classes-in-session-3/
END:VEVENT
BEGIN:VEVENT
DTSTART;TZID=America/Los_Angeles:20251128T000000
DTEND;TZID=America/Los_Angeles:20251128T235959
DTSTAMP:20260420T210656
CREATED:20250912T195304Z
LAST-MODIFIED:20250912T195304Z
UID:10000067-1764288000-1764374399@ecolecobblehill.sd79.bc.ca
SUMMARY:Non-Instructional Day (No Classes in Session)
DESCRIPTION:
URL:https://ecolecobblehill.sd79.bc.ca/event/non-instructional-day-no-classes-in-session-6/
END:VEVENT
BEGIN:VEVENT
DTSTART;TZID=America/Los_Angeles:20251128T000000
DTEND;TZID=America/Los_Angeles:20251128T235959
DTSTAMP:20260420T210656
CREATED:20250912T195302Z
LAST-MODIFIED:20251128T173853Z
UID:10000077-1764288000-1764374399@ecolecobblehill.sd79.bc.ca
SUMMARY:Non-Instructional Day (No Classes in Session)
DESCRIPTION:
URL:https://ecolecobblehill.sd79.bc.ca/event/non-instructional-day-no-classes-in-session-5/
END:VEVENT
BEGIN:VEVENT
DTSTART;TZID=America/Los_Angeles:20251127T000000
DTEND;TZID=America/Los_Angeles:20251127T235959
DTSTAMP:20260420T210656
CREATED:20250912T195303Z
LAST-MODIFIED:20250912T195303Z
UID:10000066-1764201600-1764287999@ecolecobblehill.sd79.bc.ca
SUMMARY:2 Hour Early Dismissal
DESCRIPTION:
URL:https://ecolecobblehill.sd79.bc.ca/event/2-hour-early-dismissal-10/
END:VEVENT
BEGIN:VEVENT
DTSTART;TZID=America/Los_Angeles:20251127T000000
DTEND;TZID=America/Los_Angeles:20251127T235959
DTSTAMP:20260420T210656
CREATED:20250912T195301Z
LAST-MODIFIED:20251127T173828Z
UID:10000076-1764201600-1764287999@ecolecobblehill.sd79.bc.ca
SUMMARY:2 Hour Early Dismissal
DESCRIPTION:
URL:https://ecolecobblehill.sd79.bc.ca/event/2-hour-early-dismissal-9/
END:VEVENT
BEGIN:VEVENT
DTSTART;TZID=America/Los_Angeles:20251111T000000
DTEND;TZID=America/Los_Angeles:20251111T235959
DTSTAMP:20260420T210656
CREATED:20250912T195302Z
LAST-MODIFIED:20250912T195302Z
UID:10000065-1762819200-1762905599@ecolecobblehill.sd79.bc.ca
SUMMARY:Remembrance Day (No Classes in Session)
DESCRIPTION:
URL:https://ecolecobblehill.sd79.bc.ca/event/remembrance-day-no-classes-in-session-4/
END:VEVENT
BEGIN:VEVENT
DTSTART;TZID=America/Los_Angeles:20251111T000000
DTEND;TZID=America/Los_Angeles:20251111T235959
DTSTAMP:20260420T210656
CREATED:20250912T195300Z
LAST-MODIFIED:20251111T172322Z
UID:10000075-1762819200-1762905599@ecolecobblehill.sd79.bc.ca
SUMMARY:Remembrance Day (No Classes in Session)
DESCRIPTION:
URL:https://ecolecobblehill.sd79.bc.ca/event/remembrance-day-no-classes-in-session-3/
END:VEVENT
BEGIN:VEVENT
DTSTART;TZID=America/Los_Angeles:20251024T000000
DTEND;TZID=America/Los_Angeles:20251024T235959
DTSTAMP:20260420T210656
CREATED:20250912T195301Z
LAST-MODIFIED:20250912T195301Z
UID:10000064-1761264000-1761350399@ecolecobblehill.sd79.bc.ca
SUMMARY:Professional Development Day (No Classes in Session)
DESCRIPTION:
URL:https://ecolecobblehill.sd79.bc.ca/event/professional-development-day-no-classes-in-session-6/
END:VEVENT
BEGIN:VEVENT
DTSTART;TZID=America/Los_Angeles:20251024T000000
DTEND;TZID=America/Los_Angeles:20251024T235959
DTSTAMP:20260420T210656
CREATED:20250912T195259Z
LAST-MODIFIED:20251024T213825Z
UID:10000074-1761264000-1761350399@ecolecobblehill.sd79.bc.ca
SUMMARY:Professional Development Day (No Classes in Session)
DESCRIPTION:
URL:https://ecolecobblehill.sd79.bc.ca/event/professional-development-day-no-classes-in-session-5/
END:VEVENT
BEGIN:VEVENT
DTSTART;TZID=America/Los_Angeles:20251023T000000
DTEND;TZID=America/Los_Angeles:20251023T235959
DTSTAMP:20260420T210656
CREATED:20250912T195300Z
LAST-MODIFIED:20250912T195300Z
UID:10000063-1761177600-1761263999@ecolecobblehill.sd79.bc.ca
SUMMARY:2 Hour Early Dismissal
DESCRIPTION:
URL:https://ecolecobblehill.sd79.bc.ca/event/2-hour-early-dismissal-8/
END:VEVENT
BEGIN:VEVENT
DTSTART;TZID=America/Los_Angeles:20251023T000000
DTEND;TZID=America/Los_Angeles:20251023T235959
DTSTAMP:20260420T210656
CREATED:20250912T195259Z
LAST-MODIFIED:20251023T213816Z
UID:10000073-1761177600-1761263999@ecolecobblehill.sd79.bc.ca
SUMMARY:2 Hour Early Dismissal
DESCRIPTION:
URL:https://ecolecobblehill.sd79.bc.ca/event/2-hour-early-dismissal-7/
END:VEVENT
BEGIN:VEVENT
DTSTART;TZID=America/Los_Angeles:20251013T000000
DTEND;TZID=America/Los_Angeles:20251013T235959
DTSTAMP:20260420T210656
CREATED:20250916T200823Z
LAST-MODIFIED:20251013T211030Z
UID:10000095-1760313600-1760399999@ecolecobblehill.sd79.bc.ca
SUMMARY:Thanksgiving (No Classes in Session)
DESCRIPTION:
URL:https://ecolecobblehill.sd79.bc.ca/event/thanksgiving-no-classes-in-session-5/
END:VEVENT
BEGIN:VEVENT
DTSTART;TZID=America/Los_Angeles:20251013T000000
DTEND;TZID=America/Los_Angeles:20251013T235959
DTSTAMP:20260420T210656
CREATED:20250916T200823Z
LAST-MODIFIED:20250916T200823Z
UID:10000094-1760313600-1760399999@ecolecobblehill.sd79.bc.ca
SUMMARY:Thanksgiving (No Classes in Session)
DESCRIPTION:
URL:https://ecolecobblehill.sd79.bc.ca/event/thanksgiving-no-classes-in-session-6/
END:VEVENT
END:VCALENDAR